Package: methyLImp2 Version: 1.3.1 Command: rm -rf methyLImp2.buildbin-libdir && mkdir methyLImp2.buildbin-libdir && E:\biocbuild\bbs-3.21-bioc\R\bin\R.exe CMD INSTALL --build --library=methyLImp2.buildbin-libdir methyLImp2_1.3.1.tar.gz StartedAt: 2025-02-05 08:19:16 -0500 (Wed, 05 Feb 2025) EndedAt: 2025-02-05 08:19:46 -0500 (Wed, 05 Feb 2025) EllapsedTime: 29.7 seconds RetCode: 0 Status: OK PackageFile: methyLImp2_1.3.1.zip PackageFileSize: 1.299 MiB