Package: methyLImp2 Version: 1.3.1 Command: chmod a+r methyLImp2 -R && E:\biocbuild\bbs-3.21-bioc\R\bin\R.exe CMD build --keep-empty-dirs --no-resave-data methyLImp2 StartedAt: 2025-02-04 19:51:26 -0500 (Tue, 04 Feb 2025) EndedAt: 2025-02-04 19:52:31 -0500 (Tue, 04 Feb 2025) EllapsedTime: 65.7 seconds RetCode: 0 Status: OK PackageFile: methyLImp2_1.3.1.tar.gz PackageFileSize: 1.261 MiB