Package: methyLImp2 Version: 1.3.1 Command: E:\biocbuild\bbs-3.21-bioc\R\bin\R.exe CMD check --no-multiarch --install=check:methyLImp2.install-out.txt --library=E:\biocbuild\bbs-3.21-bioc\R\library --no-vignettes --timings methyLImp2_1.3.1.tar.gz StartedAt: 2025-02-05 03:15:40 -0500 (Wed, 05 Feb 2025) EndedAt: 2025-02-05 03:19:23 -0500 (Wed, 05 Feb 2025) EllapsedTime: 223.1 seconds RetCode: 0 Status: OK CheckDir: methyLImp2.Rcheck Warnings: 0