Package: methyLImp2 Version: 1.3.1 Command: E:\biocbuild\bbs-3.21-bioc\R\bin\R.exe CMD INSTALL methyLImp2 StartedAt: 2025-02-04 15:45:11 -0500 (Tue, 04 Feb 2025) EndedAt: 2025-02-04 15:45:40 -0500 (Tue, 04 Feb 2025) EllapsedTime: 28.9 seconds RetCode: 0 Status: OK