Package: methylCC Version: 1.21.0 Command: /Library/Frameworks/R.framework/Resources/bin/R CMD build --keep-empty-dirs --no-resave-data methylCC StartedAt: 2025-02-09 17:23:37 -0500 (Sun, 09 Feb 2025) EndedAt: 2025-02-09 17:27:37 -0500 (Sun, 09 Feb 2025) EllapsedTime: 239.8 seconds RetCode: 0 Status: OK PackageFile: methylCC_1.21.0.tar.gz PackageFileSize: 4.378 MiB