Package: methylCC Version: 1.21.0 Command: /home/biocbuild/bbs-3.21-bioc/R/bin/R CMD build --keep-empty-dirs --no-resave-data methylCC StartedAt: 2025-02-09 18:02:51 -0500 (Sun, 09 Feb 2025) EndedAt: 2025-02-09 18:06:19 -0500 (Sun, 09 Feb 2025) EllapsedTime: 208.2 seconds RetCode: 0 Status: OK PackageFile: methylCC_1.21.0.tar.gz PackageFileSize: 4.374 MiB