Package: methylCC Version: 1.21.0 Command: /home/biocbuild/bbs-3.21-bioc/R/bin/R CMD check --install=check:methylCC.install-out.txt --library=/home/biocbuild/bbs-3.21-bioc/R/site-library --timings methylCC_1.21.0.tar.gz StartedAt: 2025-02-10 00:00:41 -0500 (Mon, 10 Feb 2025) EndedAt: 2025-02-10 00:11:13 -0500 (Mon, 10 Feb 2025) EllapsedTime: 631.8 seconds RetCode: 0 Status: OK CheckDir: methylCC.Rcheck Warnings: 0