Package: methylCC Version: 1.21.0 Command: /home/biocbuild/bbs-3.21-bioc/R/bin/R CMD INSTALL methylCC StartedAt: 2025-02-09 15:44:46 -0500 (Sun, 09 Feb 2025) EndedAt: 2025-02-09 15:45:38 -0500 (Sun, 09 Feb 2025) EllapsedTime: 51.7 seconds RetCode: 0 Status: OK