Package: methylCC Version: 1.21.0 Command: E:\biocbuild\bbs-3.21-bioc\R\bin\R.exe CMD check --no-multiarch --install=check:methylCC.install-out.txt --library=E:\biocbuild\bbs-3.21-bioc\R\library --no-vignettes --timings methylCC_1.21.0.tar.gz StartedAt: 2025-02-10 02:48:14 -0500 (Mon, 10 Feb 2025) EndedAt: 2025-02-10 02:56:52 -0500 (Mon, 10 Feb 2025) EllapsedTime: 518.2 seconds RetCode: 0 Status: OK CheckDir: methylCC.Rcheck Warnings: 0