Package: methylGSA Version: 1.25.0 Command: rm -rf methylGSA.buildbin-libdir && mkdir methylGSA.buildbin-libdir && /Users/biocbuild/BBS/utils/build-universal.sh methylGSA_1.25.0.tar.gz /Library/Frameworks/R.framework/Resources/bin/R methylGSA.buildbin-libdir StartedAt: 2025-02-12 22:25:53 -0500 (Wed, 12 Feb 2025) EndedAt: 2025-02-12 22:26:15 -0500 (Wed, 12 Feb 2025) EllapsedTime: 22.4 seconds RetCode: 0 Status: OK PackageFile: methylGSA_1.25.0.tgz PackageFileSize: 3.199 MiB