Package: methylGSA Version: 1.25.0 Command: /Library/Frameworks/R.framework/Resources/bin/R CMD INSTALL methylGSA StartedAt: 2025-02-09 15:30:14 -0500 (Sun, 09 Feb 2025) EndedAt: 2025-02-09 15:30:30 -0500 (Sun, 09 Feb 2025) EllapsedTime: 16.3 seconds RetCode: 0 Status: OK