Package: methylGSA Version: 1.25.0 Command: /home/biocbuild/R/R/bin/R CMD build --keep-empty-dirs --no-resave-data methylGSA StartedAt: 2025-01-29 00:12:39 -0000 (Wed, 29 Jan 2025) EndedAt: 2025-01-29 00:14:48 -0000 (Wed, 29 Jan 2025) EllapsedTime: 129.0 seconds RetCode: 0 Status: OK PackageFile: methylGSA_1.25.0.tar.gz PackageFileSize: 3.132 MiB