Package: methylGSA Version: 1.25.0 Command: rm -rf methylGSA.buildbin-libdir && mkdir methylGSA.buildbin-libdir && E:\biocbuild\bbs-3.21-bioc\R\bin\R.exe CMD INSTALL --build --library=methylGSA.buildbin-libdir methylGSA_1.25.0.tar.gz StartedAt: 2025-02-13 08:18:20 -0500 (Thu, 13 Feb 2025) EndedAt: 2025-02-13 08:19:25 -0500 (Thu, 13 Feb 2025) EllapsedTime: 65.3 seconds RetCode: 0 Status: OK PackageFile: methylGSA_1.25.0.zip PackageFileSize: 3.166 MiB