Package: methylGSA Version: 1.25.0 Command: chmod a+r methylGSA -R && E:\biocbuild\bbs-3.21-bioc\R\bin\R.exe CMD build --keep-empty-dirs --no-resave-data methylGSA StartedAt: 2025-02-12 19:53:34 -0500 (Wed, 12 Feb 2025) EndedAt: 2025-02-12 19:55:45 -0500 (Wed, 12 Feb 2025) EllapsedTime: 131.5 seconds RetCode: 0 Status: OK PackageFile: methylGSA_1.25.0.tar.gz PackageFileSize: 3.113 MiB