Package: methylInheritance Version: 1.31.0 Command: rm -rf methylInheritance.buildbin-libdir && mkdir methylInheritance.buildbin-libdir && /Users/biocbuild/BBS/utils/build-universal.sh methylInheritance_1.31.0.tar.gz /Library/Frameworks/R.framework/Resources/bin/R methylInheritance.buildbin-libdir StartedAt: 2025-02-03 22:56:29 -0500 (Mon, 03 Feb 2025) EndedAt: 2025-02-03 22:56:45 -0500 (Mon, 03 Feb 2025) EllapsedTime: 16.3 seconds RetCode: 0 Status: OK PackageFile: methylInheritance_1.31.0.tgz PackageFileSize: 1.828 MiB