Package: methylInheritance Version: 1.31.0 Command: /Library/Frameworks/R.framework/Resources/bin/R CMD build --keep-empty-dirs --no-resave-data methylInheritance StartedAt: 2025-02-09 16:53:29 -0500 (Sun, 09 Feb 2025) EndedAt: 2025-02-09 16:54:04 -0500 (Sun, 09 Feb 2025) EllapsedTime: 34.4 seconds RetCode: 0 Status: OK PackageFile: methylInheritance_1.31.0.tar.gz PackageFileSize: 1.708 MiB