Package: methylInheritance Version: 1.31.0 Command: /home/biocbuild/R/R/bin/R CMD build --keep-empty-dirs --no-resave-data methylInheritance StartedAt: 2025-01-29 00:13:21 -0000 (Wed, 29 Jan 2025) EndedAt: 2025-01-29 00:15:12 -0000 (Wed, 29 Jan 2025) EllapsedTime: 111.0 seconds RetCode: 0 Status: OK PackageFile: methylInheritance_1.31.0.tar.gz PackageFileSize: 1.698 MiB