Package: methylInheritance Version: 1.31.0 Command: /home/biocbuild/R/R/bin/R CMD check --install=check:methylInheritance.install-out.txt --library=/home/biocbuild/R/R/site-library --no-vignettes --timings methylInheritance_1.31.0.tar.gz StartedAt: 2025-01-28 12:20:21 -0000 (Tue, 28 Jan 2025) EndedAt: 2025-01-28 12:32:11 -0000 (Tue, 28 Jan 2025) EllapsedTime: 709.8 seconds RetCode: 0 Status: OK CheckDir: methylInheritance.Rcheck Warnings: 0