Package: methylInheritance Version: 1.31.0 Command: /home/biocbuild/R/R/bin/R CMD INSTALL methylInheritance StartedAt: 2025-01-29 19:51:05 -0000 (Wed, 29 Jan 2025) EndedAt: 2025-01-29 19:51:55 -0000 (Wed, 29 Jan 2025) EllapsedTime: 50.0 seconds RetCode: 0 Status: OK