Package: methylInheritance Version: 1.31.0 Command: rm -rf methylInheritance.buildbin-libdir && mkdir methylInheritance.buildbin-libdir && /Users/biocbuild/BBS/utils/build-universal.sh methylInheritance_1.31.0.tar.gz /Library/Frameworks/R.framework/Resources/bin/R methylInheritance.buildbin-libdir StartedAt: 2025-02-04 00:42:33 -0500 (Tue, 04 Feb 2025) EndedAt: 2025-02-04 00:43:25 -0500 (Tue, 04 Feb 2025) EllapsedTime: 51.9 seconds RetCode: 0 Status: OK PackageFile: methylInheritance_1.31.0.tgz PackageFileSize: 1.825 MiB