Package: methylInheritance Version: 1.31.0 Command: /Library/Frameworks/R.framework/Resources/bin/R CMD build --keep-empty-dirs --no-resave-data methylInheritance StartedAt: 2025-02-03 17:23:10 -0500 (Mon, 03 Feb 2025) EndedAt: 2025-02-03 17:24:36 -0500 (Mon, 03 Feb 2025) EllapsedTime: 86.6 seconds RetCode: 0 Status: OK PackageFile: methylInheritance_1.31.0.tar.gz PackageFileSize: 1.708 MiB