Package: methylInheritance Version: 1.31.0 Command: /Library/Frameworks/R.framework/Resources/bin/R CMD check --install=check:methylInheritance.install-out.txt --library=/Library/Frameworks/R.framework/Resources/library --no-vignettes --timings methylInheritance_1.31.0.tar.gz StartedAt: 2025-02-09 21:50:04 -0500 (Sun, 09 Feb 2025) EndedAt: 2025-02-09 21:59:47 -0500 (Sun, 09 Feb 2025) EllapsedTime: 583.3 seconds RetCode: 0 Status: OK CheckDir: methylInheritance.Rcheck Warnings: 0