Package: methylInheritance Version: 1.31.0 Command: /Library/Frameworks/R.framework/Resources/bin/R CMD INSTALL methylInheritance StartedAt: 2025-02-03 15:24:59 -0500 (Mon, 03 Feb 2025) EndedAt: 2025-02-03 15:25:47 -0500 (Mon, 03 Feb 2025) EllapsedTime: 47.5 seconds RetCode: 0 Status: OK