Package: methylInheritance Version: 1.31.0 Command: /home/biocbuild/bbs-3.21-bioc/R/bin/R CMD build --keep-empty-dirs --no-resave-data methylInheritance StartedAt: 2025-02-09 18:03:54 -0500 (Sun, 09 Feb 2025) EndedAt: 2025-02-09 18:05:10 -0500 (Sun, 09 Feb 2025) EllapsedTime: 76.1 seconds RetCode: 0 Status: OK PackageFile: methylInheritance_1.31.0.tar.gz PackageFileSize: 1.71 MiB