Package: methylInheritance Version: 1.31.0 Command: /home/biocbuild/bbs-3.21-bioc/R/bin/R CMD check --install=check:methylInheritance.install-out.txt --library=/home/biocbuild/bbs-3.21-bioc/R/site-library --timings methylInheritance_1.31.0.tar.gz StartedAt: 2025-02-04 00:08:44 -0500 (Tue, 04 Feb 2025) EndedAt: 2025-02-04 00:18:04 -0500 (Tue, 04 Feb 2025) EllapsedTime: 560.6 seconds RetCode: 0 Status: OK CheckDir: methylInheritance.Rcheck Warnings: 0