Package: methylInheritance Version: 1.31.0 Command: /home/biocbuild/bbs-3.21-bioc/R/bin/R CMD INSTALL methylInheritance StartedAt: 2025-02-03 15:37:04 -0500 (Mon, 03 Feb 2025) EndedAt: 2025-02-03 15:37:41 -0500 (Mon, 03 Feb 2025) EllapsedTime: 36.8 seconds RetCode: 0 Status: OK