Package: methylInheritance Version: 1.31.0 Command: rm -rf methylInheritance.buildbin-libdir && mkdir methylInheritance.buildbin-libdir && E:\biocbuild\bbs-3.21-bioc\R\bin\R.exe CMD INSTALL --build --library=methylInheritance.buildbin-libdir methylInheritance_1.31.0.tar.gz StartedAt: 2025-02-04 08:20:46 -0500 (Tue, 04 Feb 2025) EndedAt: 2025-02-04 08:22:29 -0500 (Tue, 04 Feb 2025) EllapsedTime: 103.1 seconds RetCode: 0 Status: OK PackageFile: methylInheritance_1.31.0.zip PackageFileSize: 1.801 MiB