Package: methylInheritance Version: 1.31.0 Command: chmod a+r methylInheritance -R && E:\biocbuild\bbs-3.21-bioc\R\bin\R.exe CMD build --keep-empty-dirs --no-resave-data methylInheritance StartedAt: 2025-02-03 20:02:02 -0500 (Mon, 03 Feb 2025) EndedAt: 2025-02-03 20:03:37 -0500 (Mon, 03 Feb 2025) EllapsedTime: 95.7 seconds RetCode: 0 Status: OK PackageFile: methylInheritance_1.31.0.tar.gz PackageFileSize: 1.671 MiB