Package: methylInheritance Version: 1.31.0 Command: E:\biocbuild\bbs-3.21-bioc\R\bin\R.exe CMD INSTALL methylInheritance StartedAt: 2025-02-03 16:35:31 -0500 (Mon, 03 Feb 2025) EndedAt: 2025-02-03 16:36:47 -0500 (Mon, 03 Feb 2025) EllapsedTime: 76.6 seconds RetCode: 0 Status: OK