Package: methylKit Version: 1.33.2 Maintainer: Altuna Akalin , Alexander Blume MaintainerEmail: alex.gos90 at gmail.com git_url: https://git.bioconductor.org/packages/methylKit git_branch: devel git_last_commit: 66ea58c git_last_commit_date: 2025-01-08 09:20:31 -0500 (Wed, 08 Jan 2025)