Package: methylKit Version: 1.33.2 Command: rm -rf methylKit.buildbin-libdir && mkdir methylKit.buildbin-libdir && /Users/biocbuild/BBS/utils/build-universal.sh methylKit_1.33.2.tar.gz /Library/Frameworks/R.framework/Resources/bin/R methylKit.buildbin-libdir StartedAt: 2025-02-09 22:20:43 -0500 (Sun, 09 Feb 2025) EndedAt: 2025-02-09 22:21:07 -0500 (Sun, 09 Feb 2025) EllapsedTime: 24.5 seconds RetCode: 0 Status: OK PackageFile: methylKit_1.33.2.tgz PackageFileSize: 2.956 MiB