Package: methylKit Version: 1.33.2 Command: /Library/Frameworks/R.framework/Resources/bin/R CMD build --keep-empty-dirs --no-resave-data methylKit StartedAt: 2025-02-09 17:23:52 -0500 (Sun, 09 Feb 2025) EndedAt: 2025-02-09 17:25:28 -0500 (Sun, 09 Feb 2025) EllapsedTime: 95.6 seconds RetCode: 0 Status: OK PackageFile: methylKit_1.33.2.tar.gz PackageFileSize: 1.447 MiB