Package: methylKit Version: 1.33.2 Command: /home/biocbuild/bbs-3.21-bioc/R/bin/R CMD check --install=check:methylKit.install-out.txt --library=/home/biocbuild/bbs-3.21-bioc/R/site-library --timings methylKit_1.33.2.tar.gz StartedAt: 2025-02-10 00:01:54 -0500 (Mon, 10 Feb 2025) EndedAt: 2025-02-10 00:08:28 -0500 (Mon, 10 Feb 2025) EllapsedTime: 393.4 seconds RetCode: 0 Status: OK CheckDir: methylKit.Rcheck Warnings: 0