Package: methylKit Version: 1.33.2 Command: /home/biocbuild/bbs-3.21-bioc/R/bin/R CMD INSTALL methylKit StartedAt: 2025-02-09 15:26:27 -0500 (Sun, 09 Feb 2025) EndedAt: 2025-02-09 15:27:26 -0500 (Sun, 09 Feb 2025) EllapsedTime: 59.2 seconds RetCode: 0 Status: OK