Package: methylKit Version: 1.33.2 Command: rm -rf methylKit.buildbin-libdir && mkdir methylKit.buildbin-libdir && E:\biocbuild\bbs-3.21-bioc\R\bin\R.exe CMD INSTALL --build --library=methylKit.buildbin-libdir methylKit_1.33.2.tar.gz StartedAt: 2025-02-05 08:19:23 -0500 (Wed, 05 Feb 2025) EndedAt: 2025-02-05 08:21:45 -0500 (Wed, 05 Feb 2025) EllapsedTime: 142.3 seconds RetCode: 0 Status: OK PackageFile: methylKit_1.33.2.zip PackageFileSize: 7.117 MiB