Package: methylKit Version: 1.33.2 Command: E:\biocbuild\bbs-3.21-bioc\R\bin\R.exe CMD check --no-multiarch --install=check:methylKit.install-out.txt --library=E:\biocbuild\bbs-3.21-bioc\R\library --no-vignettes --timings methylKit_1.33.2.tar.gz StartedAt: 2025-02-10 02:49:30 -0500 (Mon, 10 Feb 2025) EndedAt: 2025-02-10 02:58:09 -0500 (Mon, 10 Feb 2025) EllapsedTime: 519.3 seconds RetCode: 0 Status: OK CheckDir: methylKit.Rcheck Warnings: 0