Package: methylMnM Version: 1.45.0 Command: rm -rf methylMnM.buildbin-libdir && mkdir methylMnM.buildbin-libdir && /Users/biocbuild/BBS/utils/build-universal.sh methylMnM_1.45.0.tar.gz /Library/Frameworks/R.framework/Resources/bin/R methylMnM.buildbin-libdir StartedAt: 2025-02-03 22:56:33 -0500 (Mon, 03 Feb 2025) EndedAt: 2025-02-03 22:56:40 -0500 (Mon, 03 Feb 2025) EllapsedTime: 7.1 seconds RetCode: 0 Status: OK PackageFile: methylMnM_1.45.0.tgz PackageFileSize: 8.86 MiB