Package: methylMnM Version: 1.45.0 Command: /Library/Frameworks/R.framework/Resources/bin/R CMD check --install=check:methylMnM.install-out.txt --library=/Library/Frameworks/R.framework/Resources/library --no-vignettes --timings methylMnM_1.45.0.tar.gz StartedAt: 2025-02-09 20:03:38 -0500 (Sun, 09 Feb 2025) EndedAt: 2025-02-09 20:03:54 -0500 (Sun, 09 Feb 2025) EllapsedTime: 15.1 seconds RetCode: 0 Status: OK CheckDir: methylMnM.Rcheck Warnings: 0