Package: methylMnM Version: 1.45.0 Command: /home/biocbuild/R/R/bin/R CMD build --keep-empty-dirs --no-resave-data methylMnM StartedAt: 2025-01-29 00:14:48 -0000 (Wed, 29 Jan 2025) EndedAt: 2025-01-29 00:16:44 -0000 (Wed, 29 Jan 2025) EllapsedTime: 116.0 seconds RetCode: 0 Status: OK PackageFile: methylMnM_1.45.0.tar.gz PackageFileSize: 8.509 MiB