Package: methylMnM Version: 1.45.0 Command: /home/biocbuild/R/R/bin/R CMD INSTALL methylMnM StartedAt: 2025-01-29 19:35:21 -0000 (Wed, 29 Jan 2025) EndedAt: 2025-01-29 19:35:43 -0000 (Wed, 29 Jan 2025) EllapsedTime: 22.0 seconds RetCode: 0 Status: OK