Package: methylMnM Version: 1.45.0 Command: /Library/Frameworks/R.framework/Resources/bin/R CMD build --keep-empty-dirs --no-resave-data methylMnM StartedAt: 2025-02-09 17:24:10 -0500 (Sun, 09 Feb 2025) EndedAt: 2025-02-09 17:25:22 -0500 (Sun, 09 Feb 2025) EllapsedTime: 71.7 seconds RetCode: 0 Status: OK PackageFile: methylMnM_1.45.0.tar.gz PackageFileSize: 8.51 MiB