Package: methylMnM Version: 1.45.0 Command: /home/biocbuild/bbs-3.21-bioc/R/bin/R CMD check --install=check:methylMnM.install-out.txt --library=/home/biocbuild/bbs-3.21-bioc/R/site-library --timings methylMnM_1.45.0.tar.gz StartedAt: 2025-02-04 00:10:19 -0500 (Tue, 04 Feb 2025) EndedAt: 2025-02-04 00:11:32 -0500 (Tue, 04 Feb 2025) EllapsedTime: 73.1 seconds RetCode: 0 Status: OK CheckDir: methylMnM.Rcheck Warnings: 0