Package: methylMnM Version: 1.45.0 Command: /home/biocbuild/bbs-3.21-bioc/R/bin/R CMD INSTALL methylMnM StartedAt: 2025-02-03 15:12:56 -0500 (Mon, 03 Feb 2025) EndedAt: 2025-02-03 15:13:15 -0500 (Mon, 03 Feb 2025) EllapsedTime: 19.2 seconds RetCode: 0 Status: OK