Package: methylMnM Version: 1.45.0 Command: rm -rf methylMnM.buildbin-libdir && mkdir methylMnM.buildbin-libdir && E:\biocbuild\bbs-3.21-bioc\R\bin\R.exe CMD INSTALL --build --library=methylMnM.buildbin-libdir methylMnM_1.45.0.tar.gz StartedAt: 2025-02-10 08:07:39 -0500 (Mon, 10 Feb 2025) EndedAt: 2025-02-10 08:08:14 -0500 (Mon, 10 Feb 2025) EllapsedTime: 34.9 seconds RetCode: 0 Status: OK PackageFile: methylMnM_1.45.0.zip PackageFileSize: 8.503 MiB