Package: methylPipe Version: 1.41.0 Maintainer: Mattia Furlan MaintainerEmail: mattia.furlan at iit.it git_url: https://git.bioconductor.org/packages/methylPipe git_branch: devel git_last_commit: 9ff081a git_last_commit_date: 2024-10-29 09:54:17 -0500 (Tue, 29 Oct 2024)