Package: methylPipe Version: 1.41.0 Command: rm -rf methylPipe.buildbin-libdir && mkdir methylPipe.buildbin-libdir && /Users/biocbuild/BBS/utils/build-universal.sh methylPipe_1.41.0.tar.gz /Library/Frameworks/R.framework/Resources/bin/R methylPipe.buildbin-libdir StartedAt: 2025-02-09 22:20:46 -0500 (Sun, 09 Feb 2025) EndedAt: 2025-02-09 22:21:10 -0500 (Sun, 09 Feb 2025) EllapsedTime: 24.5 seconds RetCode: 0 Status: OK PackageFile: methylPipe_1.41.0.tgz PackageFileSize: 1.488 MiB