Package: methylPipe Version: 1.41.0 Command: /Library/Frameworks/R.framework/Resources/bin/R CMD check --install=check:methylPipe.install-out.txt --library=/Library/Frameworks/R.framework/Resources/library --no-vignettes --timings methylPipe_1.41.0.tar.gz StartedAt: 2025-02-09 20:03:54 -0500 (Sun, 09 Feb 2025) EndedAt: 2025-02-09 20:06:53 -0500 (Sun, 09 Feb 2025) EllapsedTime: 179.1 seconds RetCode: 0 Status: WARNINGS CheckDir: methylPipe.Rcheck Warnings: 2