Package: methylPipe Version: 1.41.0 Command: /home/biocbuild/R/R/bin/R CMD build --keep-empty-dirs --no-resave-data methylPipe StartedAt: 2025-01-29 00:15:12 -0000 (Wed, 29 Jan 2025) EndedAt: 2025-01-29 00:18:22 -0000 (Wed, 29 Jan 2025) EllapsedTime: 190.1 seconds RetCode: 0 Status: OK PackageFile: methylPipe_1.41.0.tar.gz PackageFileSize: 875.7 KiB