Package: methylPipe Version: 1.41.0 Command: /Library/Frameworks/R.framework/Resources/bin/R CMD INSTALL methylPipe StartedAt: 2025-02-09 15:29:15 -0500 (Sun, 09 Feb 2025) EndedAt: 2025-02-09 15:30:30 -0500 (Sun, 09 Feb 2025) EllapsedTime: 74.2 seconds RetCode: 0 Status: OK