Package: methylPipe Version: 1.41.0 Command: /home/biocbuild/bbs-3.21-bioc/R/bin/R CMD build --keep-empty-dirs --no-resave-data methylPipe StartedAt: 2025-02-09 18:04:24 -0500 (Sun, 09 Feb 2025) EndedAt: 2025-02-09 18:06:56 -0500 (Sun, 09 Feb 2025) EllapsedTime: 151.1 seconds RetCode: 0 Status: OK PackageFile: methylPipe_1.41.0.tar.gz PackageFileSize: 794 KiB